BEGIN:VCALENDAR
VERSION:2.0
PRODID:-//Tukios.com/
BEGIN:VEVENT
UID:f654d4c9-5603-440f-91b2-75c2d79db1ca@www.bentoncountymemorialpark.com
DTSTAMP:20260422T225321Z
DTSTART:20260509T140000Z
DTEND:20260509T150000Z
SUMMARY:Celebration of Life
DESCRIPTION:
URL:https://www.bentoncountymemorialpark.com/obituaries/cynthia-mcglynn
LOCATION:Chapel On The Creeks 5202 Village Parkway  Rogers AR 72758
GEO:36.3159484;-94.1883582
END:VEVENT
END:VCALENDAR